BEGIN:VCALENDAR
VERSION:2.0
PRODID:-//wp-events-plugin.com//7.2.3.1//EN
BEGIN:VEVENT
UID:8324@blog.nordfriesland-online.de
DTSTART;TZID=Europe/Berlin:20260307T140000
DTEND;TZID=Europe/Berlin:20260307T150000
DTSTAMP:20260302T134841Z
URL:https://blog.nordfriesland-online.de/events/von-hexen-henkern-und-durc
 hgeknallten-weibsbildern/
SUMMARY:"Von Hexen\, Henkern und durchgeknallten Weibsbildern“
DESCRIPTION:Nervenkitzel bietet die&nbsp\;öffentliche Gewandführung&nbsp\
 ;"Von Hexen\, Henkern und durchgeknallten&nbsp\;Weibsbildern“\n\nim&nbsp
 \;Schloss vor Husum am&nbsp\;Samstag\, dem 7. März um 14:00&nbsp\;Uhr&nbs
 p\;\n\nReinhard Boucsein führt in der Rolle des Henkers durch das&nbsp\;S
 chloss vor Husum. Anschaulich berichtet er über das Berufsbild des Scharf
 richters im 16. und 17. Jahrhundert. Die Arbeit des Henkers beschränkte s
 ich nicht nur darauf\, das Todesurteil zu vollstrecken. Auch medizinisches
  Allgemeinwissen\, die städtische Müllentsorgung und Kontrolle der gefal
 lenen Mädchen gehörten zu seinen Aufgaben. Während der Henker einerseit
 s als unehrlich verachtet und aus der Gesellschaft ausgestoßen wurde\, ge
 langte er doch häufig zu Reichtum und Einfluss. In diesem Kontext kommt a
 uch der damalige Umgang mit vermeintlichen Hexen und Zauberinnen zur Sprac
 he.\n\nSowohl Peter Goldschmidt\, der die Hexenverfolgung in seinem Buch 
 „Der höllische Morpheus“ vorantrieb\, als auch Paul Ipsen\, dessen Do
 ktorarbeit das Ende der Hexenverfolgung einleitete\, kamen aus Husum. Verg
 lichen mit den großen Verfolgungswellen in Bamberg oder Würzburg wurden 
 in Nordfriesland jedoch wenige Frauen der Hexerei angeklagt. Weitere Theme
 n sind unter anderem die Kindsmörderinnen\, die Mystikerinnen und – mit
  einem Ausblick in das 19. Jahrhundert – der Rebell Harro Harring\, die 
 alle auf ihre Weise Husum in Atem hielten.\n\nDie Führung wird für Perso
 nen ab 15 Jahren angeboten.\n\n&nbsp\;\n\nMelden Sie sich bitte verbindlic
 h an unter:\n\nTel. 04841-2545 oder\n\nper E-Mail:&nbsp\;kasse@museumsverb
 und-nordfriesland.de.\n\nDauer: ca. 1 Stunde\n\nEintritt: 15 € pro Perso
 n (inkl. Eintritt)\n\nKurzentschlossene sind natürlich auch ohne Anmeldun
 g willkommen.
ATTACH;FMTTYPE=image/jpeg:https://blog.nordfriesland-online.de/wp-content/
 uploads/2014/01/nfdefault.png
CATEGORIES:Ausstellungen
LOCATION:Schloss vor Husum\, Schloßstrasse\, Husum\, 25813\, Deutschland
GEO:54.4788679;9.048402099999976
X-APPLE-STRUCTURED-LOCATION;VALUE=URI;X-ADDRESS=Schloßstrasse\, Husum\, 25
 813\, Deutschland;X-APPLE-RADIUS=100;X-TITLE=Schloss vor Husum:geo:54.4788
 679,9.048402099999976
END:VEVENT
BEGIN:VTIMEZONE
TZID:Europe/Berlin
X-LIC-LOCATION:Europe/Berlin
BEGIN:STANDARD
DTSTART:20251026T020000
TZOFFSETFROM:+0200
TZOFFSETTO:+0100
TZNAME:CET
END:STANDARD
END:VTIMEZONE
END:VCALENDAR