BEGIN:VCALENDAR
VERSION:2.0
PRODID:-//wp-events-plugin.com//7.2.3.1//EN
BEGIN:VEVENT
UID:8383@blog.nordfriesland-online.de
DTSTART;TZID=Europe/Berlin:20260430T190000
DTEND;TZID=Europe/Berlin:20260501T030000
DTSTAMP:20260424T135854Z
URL:https://blog.nordfriesland-online.de/events/tanz-in-den-mai/
SUMMARY:Tanz in den Mai
DESCRIPTION:\n\nTanz in den Mai 2026 \n\n\nAm 30.04. wird’s heiß – wir
  feiern gemeinsam in den Mai! \n\n\n The Keyf Husum\nTreibweg 17b\, Eingan
 g Brüggemannstraße\n\n\n 30.04.26\n Einlass ab 19 Uhr\n Eintritt ab 23 U
 hr\n\n\nFreu dich auf fette Beats\, gute Drinks &amp\; beste Vibes die gan
 ze Nacht! \n\n\nSchnapp dir deine Crew und sei dabei – das wird legendä
 r!\n
ATTACH;FMTTYPE=image/jpeg:https://blog.nordfriesland-online.de/wp-content/
 uploads/2026/04/662678927_17950827786131078_2120804919664044604_n.jpg
CATEGORIES:Partys
LOCATION:The Keyf\, Treibweg 17b\, Husum\, Schleswig-Holstein\, 25813\, Deu
 tschland
X-APPLE-STRUCTURED-LOCATION;VALUE=URI;X-ADDRESS=Treibweg 17b\, Husum\, Schl
 eswig-Holstein\, 25813\, Deutschland;X-APPLE-RADIUS=100;X-TITLE=The Keyf:g
 eo:0,0
END:VEVENT
BEGIN:VTIMEZONE
TZID:Europe/Berlin
X-LIC-LOCATION:Europe/Berlin
BEGIN:DAYLIGHT
DTSTART:20260329T030000
TZOFFSETFROM:+0100
TZOFFSETTO:+0200
TZNAME:CEST
END:DAYLIGHT
END:VTIMEZONE
END:VCALENDAR