BEGIN:VCALENDAR
VERSION:2.0
PRODID:-//wp-events-plugin.com//7.2.3.1//EN
BEGIN:VEVENT
UID:8365@blog.nordfriesland-online.de
DTSTART;TZID=Europe/Berlin:20260516T190000
DTEND;TZID=Europe/Berlin:20260516T234500
DTSTAMP:20260415T123952Z
URL:https://blog.nordfriesland-online.de/events/riff-rock-night-am-16-mai-
 in-joldelund/
SUMMARY:Riff Rock Night am 16. Mai in Joldelund
DESCRIPTION:[caption id="attachment_28504" align="alignnone" width="1000"] 
 Foto: Musik Promo[/caption]\n\nder musikalische Jahresauftakt 2026 in Jold
 elund musste ja wetterbedingt ausfallen\, da die Sicherheit für Besucher 
 und Künstler natürlich Vorrang hatte. Ein heftiger Wintereinbruch mit Gl
 atteis hatte Bio-Bäcker Lorenzen Anfang Januar einen Strich durch die Rec
 hnung gemacht. Aber aufgeschoben ist nicht aufgehoben\, denn am 16. Mai d
 ürfen sich die Besucher im „Juke Joint“ endlich auf die Neuauflage de
 r legendären „Riff Rock Night“ freuen. Alles wieder an einem Tag und 
 erneut mit zwei Top-Acts des Tribut-Genres\, wobei das Künstler Line-up v
 om Januar unverändert bleibt! Beide geplanten Bands konnten den neuen Ter
 min bestätigen. Natürlich wird es bei Deutschlands bester und erfolgreic
 hster reinen AC/DC-Frauenband Black Rosie auch wieder laut und die Bühne 
 bebt\, wenn die 5 Girlies anfangen zu rocken. Nicht weniger schweißtreibe
 nd und rockig wird es bei Deutschlands dienstältester und gleichfalls erf
 olgreichster Status Quo Tributband Quotime zugehen! Es werden ganz sicher 
 wieder kräftig die Stimmbänder des gesamten Publikums strapaziert\, die 
 Luftgitarristen gefeiert und es darf selbstverständlich getanzt werden. D
 er Abend wird lang\, denn die Hit-Listen von AC/DC und Status Quo sind lan
 g. Sehr lang sogar!\n\n&nbsp\;\nRiff Rock Night\n\n 	16.05.2026 (Sa.)\n\nB
 lack Rosie (die beste deutsche AC/DC Frauen Coverband)\nQuotime (die erfol
 greichste Tribute to Status Quo Show)\n\n&nbsp\;\n\nin „Gerd’s Juke Jo
 int“ Joldelund (Bahnhofstr. 1\, 25862 Joldelund)\n\nEinlass ab 19:00&nbs
 p\; Uhr und Beginn um 20:00 Uhr&nbsp\;\n\n&nbsp\;\n\n&nbsp\;\n\nBlack/Rosi
 e ist die ultimative Female-AC/DC-Band Deutschlands und haben sich ganz de
 m erdigen Rock`n`Roll-Groove ihrer australischen Vorbilder verschrieben! D
 ie fünf Rockladies aus dem Raum Hannover verstehen ihr Handwerk und zeige
 n ihr Können mit einer gewaltigen Power und Spielfreude! Geboten wird Kul
 tiges\, sowohl aus der Bon Scott-Ära wie „Highway To Hell“\, „T.N.T
 .“ oder „Whole Lotta Rosie“\, als auch Brian Johnsons „Thunderstru
 ck“\, „Hells Bells“ und „Back In Black“. Zusammen auf der Bühne
  sind Black/Rosie eine Band\, die dem Fan der harten Klänge optisch und a
 kustisch einen unvergesslichen Partyabend bereitet! Geboten wird eine atem
 beraubende Show in typischer AC/DC-Manier und handwerklich auf allerhöchs
 tem Niveau. Durch zahlreiche Auftritte bei vielen Biker-Festivals und eini
 gen der größten Open-Airs im In- &amp\; Ausland gelten die Mädels mittl
 erweile als „heißester AC/DC-Tribute“ überhaupt in Europa!\n\n&nbsp\
 ;\nQuotime – The Best Tribute Show Of Status Quo.\nDie um den Gitarriste
 n Kai-Uwe Scheffler gegründete Band Quotime will ein Stück Rockgeschicht
 e dem heutigen Publikum auf eindrucksvolle Weise präsentieren. Zusammen m
 it dem Gitarristen Stefan Furtner\, dem Bassisten Thomas Gropp und Michael
  Schreiner am Schlagzeug rocken die Vier Songs wie "Rockin all over the Wo
 rld"\, "Whatever you want" oder "Down Down" in einer powergeladenen Rock'n
 'Roll Show! Doch die im Jahr 2009 gegründeten Quotime erinnern nicht nur 
 an die übergroßen Hits von "Status Quo" – auch die Songs der ersten "Q
 uo"-LPs\, als die Band noch ihren Sound suchte und dabei Meisterwerke wie 
 "Matchstick Men" schuf\, werden live bemerkenswert authentisch performt. B
 ei ihren bis heute fast 1.000 Konzerten begeistern sie mit ihrer auffälli
 gen Bühnenshow und der leidenschaftlichen Musikperformance immer wieder i
 hr Publikum. Deshalb sind sie auch Deutschlands meistgebuchte Status Quo T
 ribute Band und gastierten schon des Öfteren im Ausland wie in Holland\, 
 Belgien\, Polen und Österreich.\n\n&nbsp\;\n\nNatürlich behalten die Kar
 ten vom 10. Januar alle ihre Gültigkeit für den 16. Mai.\n\nWer noch kei
 n Ticket hat: Karten gibt es für 40\,00 € an allen bekannten Vorverkauf
 sstellen (u.a. den Geschäftsstellen der SHZ\, einigen Reisebüros und Tou
 rist-Informationen) über den Ticketanbieter CTS/Eventim. Außerdem bei de
 r Joldelunder Bioland-Bäckerei\, Brigittes Bäckerpost Risum-Lindholm\, T
 ankstelle Opel Martensen in Goldelund\, Teamtankstelle Jübek\, Nah- und F
 risch in Joldelund\, Wanderup und Viöl\, Getränke Hoffmann in Bredstedt 
 und Wein &amp\; Whisky Depot Schleswig\, sowie den bekannten VVK-Stellen u
 .a. den CITTI Märkten in Kiel und Flensburg\, sowie natürlich im Interne
 t über www.eventim.de! Restkarten kosten an der Abendkasse 45\,00 €.
ATTACH;FMTTYPE=image/jpeg:https://blog.nordfriesland-online.de/wp-content/
 uploads/2026/04/Quotime-Pressefoto-by-MD-Music-Promo-scaled-e1776256776705
 .jpg
CATEGORIES:Live-Konzerte
LOCATION:Gerd’s Juke Joint\, Bahnhofstr. 1\, Joldelund\, 25862\, Deutschl
 and
GEO:54.66357000000001;9.148689999999988
X-APPLE-STRUCTURED-LOCATION;VALUE=URI;X-ADDRESS=Bahnhofstr. 1\, Joldelund\,
  25862\, Deutschland;X-APPLE-RADIUS=100;X-TITLE=Gerd’s Juke Joint:geo:54
 .66357000000001,9.148689999999988
END:VEVENT
BEGIN:VTIMEZONE
TZID:Europe/Berlin
X-LIC-LOCATION:Europe/Berlin
BEGIN:DAYLIGHT
DTSTART:20260329T030000
TZOFFSETFROM:+0100
TZOFFSETTO:+0200
TZNAME:CEST
END:DAYLIGHT
END:VTIMEZONE
END:VCALENDAR