BEGIN:VCALENDAR
VERSION:2.0
PRODID:-//wp-events-plugin.com//7.2.3.1//EN
BEGIN:VEVENT
UID:8371@blog.nordfriesland-online.de
DTSTART;TZID=Europe/Berlin:20260509T193000
DTEND;TZID=Europe/Berlin:20260509T230000
DTSTAMP:20260421T173821Z
URL:https://blog.nordfriesland-online.de/events/poetry-slam/
SUMMARY:Poetry Slam
DESCRIPTION:\n\nEin Poetry Slam ist lebendige Literatur\, ein Dichterwettst
 reit der absoluten Vielfalt: Vom\nstillen\, lyrischen Text über Satire un
 d Rap-Poem bis hin zum knalligen Performance-Text\nist alles erlaubt. Die 
 Texte müssen selbst verfasst sein und innerhalb von 6 Minuten\nvorgetrage
 n werden. Was gefällt\, entscheidet das Publikum!\nLine-Up: Marv Mallow 
 – Halbfinalist Hamburger Stadtmeisterschaften\; Annabell Bardag –\nTri
 zemeisterin SH\; Marten De Wall – Hamburger Comedy Slam\; Sarah Garstens
 tein –\nFinalistin SH-Meisterschaften\; Lena Meckenstock – Vizemeister
 in der Hamburger\nStadtmeisterschaften\; Gülay Bayraktar – Finalistin d
 es „Eulenspiegel reloaded“-Preises\nin Mölln\; Hanna Bröder\; Modera
 tion: Björn Högsdal\n\nDie Sachpreise werden gestiftet von der Schlossbu
 chhandlung und Getränke Tadsen.\nEintritt: VVK 12 € zzgl. Gebühren / A
 K 16 € // bestuhlt
ATTACH;FMTTYPE=image/jpeg:https://blog.nordfriesland-online.de/wp-content/
 uploads/2026/03/speicher.jpg
CATEGORIES:Theater
LOCATION:Speicher Husum\, Hafenstr. 17\, Husum\, 25813\, Deutschland
GEO:54.4751218;9.047533199999975
X-APPLE-STRUCTURED-LOCATION;VALUE=URI;X-ADDRESS=Hafenstr. 17\, Husum\, 2581
 3\, Deutschland;X-APPLE-RADIUS=100;X-TITLE=Speicher Husum:geo:54.4751218,9
 .047533199999975
END:VEVENT
BEGIN:VTIMEZONE
TZID:Europe/Berlin
X-LIC-LOCATION:Europe/Berlin
BEGIN:DAYLIGHT
DTSTART:20260329T030000
TZOFFSETFROM:+0100
TZOFFSETTO:+0200
TZNAME:CEST
END:DAYLIGHT
END:VTIMEZONE
END:VCALENDAR