BEGIN:VCALENDAR
VERSION:2.0
PRODID:-//wp-events-plugin.com//7.2.3.1//EN
BEGIN:VEVENT
UID:8380@blog.nordfriesland-online.de
DTSTART;TZID=Europe/Berlin:20260524T200000
DTEND;TZID=Europe/Berlin:20260524T223000
DTSTAMP:20260422T170754Z
URL:https://blog.nordfriesland-online.de/events/oh-hiroshima/
SUMMARY:Oh Hiroshima
DESCRIPTION:\n\nOh Hiroshima stammen aus der schwedischen Kleinstadt Kristi
 nehamn und bestehen in\nihrer heutigen Form aus den Brüdern Jakob Hemstr
 öm (Gitarre/Gesang) und Oskar\nNilsson (Schlagzeug). Vor über 15 Jahren 
 begann das Projekt als bescheidenes DIY-\nPost-Rock-Aufnahmeprojekt. Seitd
 em hat sich die Band zu einer hoch angesehenen\nStudio- und Live-Formation
  entwickelt\, die sich fest in der Post-Rock-Szene und darüber\nhinaus et
 abliert hat.\nBekannt sind Oh Hiroshima für ihre zutiefst emotionale Klan
 gsprache\, in der sich\nkraftvolle Crescendos mühelos mit fragilen Melodi
 en und atmosphärischem Gesang\nverbinden – getragen von einem beeindruc
 kenden Songwriting. Über die Jahre hinweg\nhat sich ihr Sound stetig weit
 erentwickelt und Einflüsse aus Shoegaze\, Indie-Rock\, Post-\nPunk und we
 iteren Stilrichtungen aufgenommen. Diese stilistische Vielfalt macht es\nz
 unehmend schwierig\, die Band eindeutig einem einzelnen Genre zuzuordnen.\
 nEintritt: VVK 16 € zzgl. Gebühren / AK 20 € // unbestuhlt\n\nPresse 
 Oh Hiroshima
ATTACH;FMTTYPE=image/jpeg:https://blog.nordfriesland-online.de/wp-content/
 uploads/2026/04/Oh-Hi-Promo-04-2024_web-e1776877639737.jpg
CATEGORIES:Live-Konzerte
LOCATION:Speicher Husum\, Hafenstr. 17\, Husum\, 25813\, Deutschland
GEO:54.4751218;9.047533199999975
X-APPLE-STRUCTURED-LOCATION;VALUE=URI;X-ADDRESS=Hafenstr. 17\, Husum\, 2581
 3\, Deutschland;X-APPLE-RADIUS=100;X-TITLE=Speicher Husum:geo:54.4751218,9
 .047533199999975
END:VEVENT
BEGIN:VTIMEZONE
TZID:Europe/Berlin
X-LIC-LOCATION:Europe/Berlin
BEGIN:DAYLIGHT
DTSTART:20260329T030000
TZOFFSETFROM:+0100
TZOFFSETTO:+0200
TZNAME:CEST
END:DAYLIGHT
END:VTIMEZONE
END:VCALENDAR