BEGIN:VCALENDAR
VERSION:2.0
PRODID:-//wp-events-plugin.com//7.2.3.1//EN
BEGIN:VEVENT
UID:8382@blog.nordfriesland-online.de
DTSTART;TZID=Europe/Berlin:20260530T200000
DTEND;TZID=Europe/Berlin:20260530T230000
DTSTAMP:20260422T171207Z
URL:https://blog.nordfriesland-online.de/events/nautilus-sunken-scores-tou
 r/
SUMMARY:Nautilus: Sunken Scores Tour
DESCRIPTION:\n\nBack again! Nautilus ist ein japanisches Jazz-Trio um den S
 chlagzeuger Toshiyuki\nSasaki. Zusammen mit dem Bassisten Shigeki Umezawa 
 und Mariko Nakabayashi am\nKeyboard sind sie für ihren unverwechselbaren 
 Stil bekannt\, der sich als moderner Rare\nGroove beschreiben lässt und e
 ine Mischung aus Jazz\, Funk\, Disco\, Soul und sogar\nHip-Hop verkörpert
 .\nAm Anfang war ein Song – und der Song hieß „Nautilus“. Der Tokio
 ter Schlagzeuger\nToshiyuki Sasaki hörte ihn irgendwann und benannte dann
  seine frisch gegründete Band\nnach diesem obskuren Bob-James-Groove-Stü
 ck aus dem Jahr 1974. In dieser\nGemengelage aus Digging\, Rare- sowie Org
 anic-Grooves begannen Nautilus ihren\, an\nfrühere Musik angelehnten Soun
 dmix zu spielen. Nur\, dass der neu war und aus Japan\nkam.\nBald stolpert
 e der deutsche DJ und Digger Oonops aka Patrick Decker über die Nautilus-
 \nVersion von Roy Ayers „We Live In Brooklyn Baby“ und war direkt Feue
 r und Flamme.\nAlso nahm er Kontakt zur Band auf und veröffentlicht nun s
 eit einigen Jahren deren\nProduktionen außerhalb Japans. Das Tokioter Tri
 o Nautilus ist sicher eine der besten\nRare-Groove-Bands der neuen Generat
 ion in Japan\, die inzwischen auch außerhalb\nNippons hoch gelobt wird.\n
 Im Mai dieses Jahres erscheint nun ihr neues Album „Sunken Scores“ auf
  dem\ndeutschen Label Oonops Drops\, welches sich um Movie-Soundtracks und
  TV-Scores\nzentriert. Mit\nEigenkomposition\, welche die unverwechselbare
  Handschrift von Nautilus trägt\, werden\nsie wieder einmal das Publikum 
 zum Grooven bringen.\nEintritt: VVK 17 € zzgl. Gebühren / AK 23 € // 
 teilbestuhlt\n\n&nbsp\;\n\nFoto: Presse Nautilus
ATTACH;FMTTYPE=image/jpeg:https://blog.nordfriesland-online.de/wp-content/
 uploads/2026/04/Nautilus-01_kl-scaled-e1776877897554.jpg
CATEGORIES:Live-Konzerte
LOCATION:Speicher Husum\, Hafenstr. 17\, Husum\, 25813\, Deutschland
GEO:54.4751218;9.047533199999975
X-APPLE-STRUCTURED-LOCATION;VALUE=URI;X-ADDRESS=Hafenstr. 17\, Husum\, 2581
 3\, Deutschland;X-APPLE-RADIUS=100;X-TITLE=Speicher Husum:geo:54.4751218,9
 .047533199999975
END:VEVENT
BEGIN:VTIMEZONE
TZID:Europe/Berlin
X-LIC-LOCATION:Europe/Berlin
BEGIN:DAYLIGHT
DTSTART:20260329T030000
TZOFFSETFROM:+0100
TZOFFSETTO:+0200
TZNAME:CEST
END:DAYLIGHT
END:VTIMEZONE
END:VCALENDAR