BEGIN:VCALENDAR
VERSION:2.0
PRODID:-//wp-events-plugin.com//7.2.3.1//EN
BEGIN:VEVENT
UID:8378@blog.nordfriesland-online.de
DTSTART;TZID=Europe/Berlin:20260522T200000
DTEND;TZID=Europe/Berlin:20260522T230000
DTSTAMP:20260422T170301Z
URL:https://blog.nordfriesland-online.de/events/kieran-goss-annie-kinsella
 -songs-and-stories-from-ireland/
SUMMARY:Kieran Goss & Annie Kinsella – Songs and Stories from Ireland
DESCRIPTION:&nbsp\;\n\n\n\nObwohl Kieran Goss seit Jahren als einer der fü
 hrenden Singer/Songwriter Irlands gilt\,\nwar es die jüngste Zusammenarbe
 it mit Annie Kinsella mit dem gemeinsamen Debüt-\nAlbum „Oh\, The Starl
 ings“\, welche den beiden Künstlern einen Platz in der Songwriter-\nLig
 a Irlands sicherte und zu ausverkauften Konzerten in den größten Hallen 
 der grünen\nInsel führte.\nSeit vielen Jahren touren die beiden auch dur
 ch Deutschland\, wo sie sich eine treue und\nstetig wachsende Fangemeinde 
 aufgebaut haben\, die nicht nur wegen der großartigen\nSongs und der beid
 en harmonierenden Stimmen\, sondern auch wegen der Geschichten\nvoller Wit
 z und irischem Charme immer wieder zu den Konzerten kommt. Wir freuen uns\
 nriesig\, dass die beiden mit einer ganz besonderen Show zum ersten Mal na
 ch Husum\nkommen und viele neue\, noch unveröffentlichte Songs präsentie
 ren werden.\nEintritt: VVK 25 € zzgl. Gebühren / AK 30 € // bestuhlt\
 n\nFoto: Presse Kieran Goss &amp\; Annie Kinsella
ATTACH;FMTTYPE=image/jpeg:https://blog.nordfriesland-online.de/wp-content/
 uploads/2026/04/Kieran-Goss_Annie-Kinsella_LIVE-scaled-e1776877337463.jpg
CATEGORIES:Live-Konzerte
LOCATION:Speicher Husum\, Hafenstr. 17\, Husum\, 25813\, Deutschland
GEO:54.4751218;9.047533199999975
X-APPLE-STRUCTURED-LOCATION;VALUE=URI;X-ADDRESS=Hafenstr. 17\, Husum\, 2581
 3\, Deutschland;X-APPLE-RADIUS=100;X-TITLE=Speicher Husum:geo:54.4751218,9
 .047533199999975
END:VEVENT
BEGIN:VTIMEZONE
TZID:Europe/Berlin
X-LIC-LOCATION:Europe/Berlin
BEGIN:DAYLIGHT
DTSTART:20260329T030000
TZOFFSETFROM:+0100
TZOFFSETTO:+0200
TZNAME:CEST
END:DAYLIGHT
END:VTIMEZONE
END:VCALENDAR