BEGIN:VCALENDAR
VERSION:2.0
PRODID:-//wp-events-plugin.com//7.2.3.1//EN
BEGIN:VEVENT
UID:8381@blog.nordfriesland-online.de
DTSTART;TZID=Europe/Berlin:20260529T200000
DTEND;TZID=Europe/Berlin:20260529T230000
DTSTAMP:20260422T170951Z
URL:https://blog.nordfriesland-online.de/events/kai-strauss-the-electric-b
 lues-all-stars/
SUMMARY:Kai Strauss & The Electric Blues All Stars
DESCRIPTION:\n\nMit „Night Shift“ hat Kai Strauss jetzt sein siebtes Al
 bum veröffentlicht\, und wieder mal\ngelingt es ihm\, die Blueswurzeln mi
 t Elementen seiner eigenen Art von Funk und Soul zu\neinem aufregenden zei
 tgenössischen Sound zu verweben. Als Songwriter hat er sich\nspürbar wei
 terentwickelt. Seine Lieder haben an Dringlichkeit und Aktualität gewonne
 n\nund greifen auch mitunter ernstere Themen auf. Obwohl Strauss eindeutig
  die\nGrammatik der alten Bluesmeister gelernt hat\, ist seine Gitarrenarb
 eit keineswegs ein\n„Malen-nach-Zahlen-Blues“. Mit ganz eigener Stimme
  vorgetragen\, platziert Kai seine\nGitarrenlicks energiegeladen und ausge
 feilt wie ein südamerikanischer Elfmeterschütze.\nUnd wenn sogar US-Blue
 smogul Bruce Iglauer (Alligator Records) Strauss als Musiker\n„who has i
 t all“ lobt\, weiß man\, dass sich acht Tonträger\, TV-Auftritte und u
 nzählige\nShows in über 20 Ländern ausgezahlt haben.\nEintritt: VVK 21 
 € zzgl. Gebühren / AK 26 € // unbestuhlt\n\n&nbsp\;\n\nFoto: Presse&n
 bsp\; Kai Strauss
ATTACH;FMTTYPE=image/jpeg:https://blog.nordfriesland-online.de/wp-content/
 uploads/2026/04/kaistrauss-22-09-19-57mfyu_web-scaled-e1776877772723.jpg
CATEGORIES:Live-Konzerte
LOCATION:Speicher Husum\, Hafenstr. 17\, Husum\, 25813\, Deutschland
GEO:54.4751218;9.047533199999975
X-APPLE-STRUCTURED-LOCATION;VALUE=URI;X-ADDRESS=Hafenstr. 17\, Husum\, 2581
 3\, Deutschland;X-APPLE-RADIUS=100;X-TITLE=Speicher Husum:geo:54.4751218,9
 .047533199999975
END:VEVENT
BEGIN:VTIMEZONE
TZID:Europe/Berlin
X-LIC-LOCATION:Europe/Berlin
BEGIN:DAYLIGHT
DTSTART:20260329T030000
TZOFFSETFROM:+0100
TZOFFSETTO:+0200
TZNAME:CEST
END:DAYLIGHT
END:VTIMEZONE
END:VCALENDAR