BEGIN:VCALENDAR
VERSION:2.0
PRODID:-//wp-events-plugin.com//7.2.3.1//EN
BEGIN:VEVENT
UID:8322@blog.nordfriesland-online.de
DTSTART;TZID=Europe/Berlin:20260308T190000
DTEND;TZID=Europe/Berlin:20260308T211500
DTSTAMP:20260228T150707Z
URL:https://blog.nordfriesland-online.de/events/husum-singt/
SUMMARY:Husum singt
DESCRIPTION:[caption id="attachment_28414" align="alignnone" width="1000"] 
 Foto: Presse Sören Schröder[/caption]\n\nSeid wieder mit dabei\, wenn wi
 r uns durch bekannte Oldies\, Popsongs und viel mehr singen und einen gro
 ßartigen Abend zusammen erleben.\n\nWenn „Deine Stadt Singt“ aufspiel
 t bleibt keine Stimme leise.\n\nEs ist ein Event für alle. Insbesondere a
 lle\, die Lust haben\, selbst ein wesentlicher Bestandteil des Abends zu s
 ein. Denn die Idee ist simpel und brillant zugleich. Sören Schröder ist 
 der Motivator und Entertainer auf der Bühne und formt nach wenigen Moment
 en alle Gesangsbegeisterten zu einem großartigen Riesenchor. Und es funkt
 ioniert. Gesungen werden Songs\, die „im Ohr“ sind.\n\nEine bunte Misc
 hung an Popsongs\, Oldies und Evergreens\, deutsch und englisch der letzte
 n 50 Jahre Musikgeschichte. Gesungen wird was Spaß macht und mitsingbar i
 st. Und genau dieses Versprechen hält Schröder ein. „Es kommt nicht da
 rauf an jeden Ton zu treffen. Ab 100 Personen klingen alle gemeinsam einfa
 ch wundervoll und es macht großen Spaß.“\n\nDie Texte zum Mitsingen we
 rden auf eine große Leinwand gespielt und laden ein sich einfach musikali
 sch einzumischen in den anonymen Gesang.\n\nÜber Sören und Deine Stadt S
 ingt\n\nSören Schröder ist der Macher und Initiator von „Deine Stadt S
 ingt“. Gemeinsam mit dem Bruderprojekt „Der Norden Singt“ erobern di
 e Schröder-Brüder die Spielorte Norddeutschlands mit dem Ziel\, Menschen
  im Gesang zu vereinen. Die Art und Weise steht hier im Vordergrund. Karao
 ke kann jeder\, aber wer einmal bei „Deine Stadt Singt“ war weiß\, da
 ss ein Mitsingkonzert unter Schröder-Leitung mehr ist als nur Liedersinge
 n. Stets mit einem Augenzwinkern und einer frischen\, witzigen Art führt 
 Sören Schröder durch die gemeinsamen Mitmachkonzerte und fühlt sich dab
 ei selbst mehr als Teil des Ganzen als\, als der „Künstler“ auf der B
 ühne.\n\nWenn er nicht gerade ganze Städte zum Singen bringt\, leitet Sc
 hröder Backgroundchöre für Künstler. So stand er schon mit Howard Carp
 endale\, Adel Tawil und Stefan Gwildis auf der Bühne\, stellte ebenfalls 
 Chöre für Joja Wendt und Josh Groban und im Tonstudio für Zoe Wees\n\n
 „Musik ist eine unerschöpfliche Quelle der Lebensqualität“\nTickets\
 nTickets erhältlich unter&nbsp\;www.deine-stadt-singt.de und in der Schlo
 ssbuchhandlung Husum.\n\nMitgebracht werden muss neben dem Ticket also nur
  die Freude am Singen. Mutmachende Getränke gibt es vor Ort.\n\nDie Platz
 wahl ist frei.
ATTACH;FMTTYPE=image/jpeg:https://blog.nordfriesland-online.de/wp-content/
 uploads/2026/02/Husum-Singt-scaled-1-e1772291157431.jpg
CATEGORIES:Live-Konzerte,Sonstiges
LOCATION:Messe Husum & Congress\, Am Messeplatz 12-18\, Husum\, 25813\, Deu
 tschland
GEO:54.49608000000001;9.089830000000006
X-APPLE-STRUCTURED-LOCATION;VALUE=URI;X-ADDRESS=Am Messeplatz 12-18\, Husum
 \, 25813\, Deutschland;X-APPLE-RADIUS=100;X-TITLE=Messe Husum & Congress:g
 eo:54.49608000000001,9.089830000000006
END:VEVENT
BEGIN:VTIMEZONE
TZID:Europe/Berlin
X-LIC-LOCATION:Europe/Berlin
BEGIN:STANDARD
DTSTART:20251026T020000
TZOFFSETFROM:+0200
TZOFFSETTO:+0100
TZNAME:CET
END:STANDARD
END:VTIMEZONE
END:VCALENDAR