BEGIN:VCALENDAR
VERSION:2.0
PRODID:-//wp-events-plugin.com//7.2.3.1//EN
BEGIN:VEVENT
UID:8369@blog.nordfriesland-online.de
DTSTART;TZID=Europe/Berlin:20260426T150000
DTEND;TZID=Europe/Berlin:20260426T160000
DTSTAMP:20260421T073640Z
URL:https://blog.nordfriesland-online.de/events/halligen-deiche-und-meer-g
 eschichte-und-kultur-der-nordfriesen/
SUMMARY:„Halligen\, Deiche und Meer: Geschichte und Kultur der Nordfriese
 n“
DESCRIPTION:\nAm Sonntag\, den 26. April findet um 15:00 Uhr die öffentlic
 he Führung&nbsp\;\n„Halligen\, Deiche und Meer: Geschichte und Kultur d
 er Nordfriesen“&nbsp\;\nim Nordfriesland Museum. Nissenhaus statt. Sturm
 fluten\, Landverlust und dünne\nBesiedelung – all das prägt seit jeher
  das Leben in Nordfriesland. Menschen leben hier zwischen tiefer Verbunden
 heit und dem stetigen Kampf mit Land und Natur. Erkunden Sie mit Petra Cab
 rera-Rojas die Dauerausstellung im Nordfriesland Museum und entdecken Sie\
 , wie Meer und Land die Kultur und Lebenswelt der Nordfriesen prägten. Da
 bei erwartet Sie allerlei Spannendes\, von Trachten\, über das Leben auf 
 den Halligen und dem Fisch- und Walfang.\n&nbsp\;\nWann? &nbsp\; Sonntag\,
  26. April um 15.00 Uhr\nWo? &nbsp\;&nbsp\;&nbsp\;&nbsp\;&nbsp\;&nbsp\;&nb
 sp\;&nbsp\;&nbsp\;&nbsp\;&nbsp\;&nbsp\;&nbsp\;&nbsp\;&nbsp\;&nbsp\;&nbsp\;
 &nbsp\;&nbsp\;&nbsp\;&nbsp\; Nordfriesland Museum. Nissenhaus\n&nbsp\;\nMe
 lden Sie sich bitte verbindlich an unter:\nTel. 04841-2545 oder\nper E-Mai
 l:  kasse@museumsverbund-nordfriesland.de.\nDauer: ca. 1 Stunde\nEintritt:
  12 € pro Person (inkl. Eintritt)\nKurzentschlossene sind natürlich auc
 h ohne Anmeldung willkommen.\n&nbsp\;\n\nFoto: Gesche Biermann
ATTACH;FMTTYPE=image/jpeg:https://blog.nordfriesland-online.de/wp-content/
 uploads/2026/04/Nordfriesland-Museum-Ausstellung-8-c-Gesche-Biermann_Museu
 msverbund-NF-scaled-e1776756979123.jpg
CATEGORIES:Ausstellungen
LOCATION:Nissenhaus\, Herzog-Adolf-Straße 25\, Husum\, 25813\, Deutschland
GEO:54.47522;9.055769999999939
X-APPLE-STRUCTURED-LOCATION;VALUE=URI;X-ADDRESS=Herzog-Adolf-Straße 25\, H
 usum\, 25813\, Deutschland;X-APPLE-RADIUS=100;X-TITLE=Nissenhaus:geo:54.47
 522,9.055769999999939
END:VEVENT
BEGIN:VTIMEZONE
TZID:Europe/Berlin
X-LIC-LOCATION:Europe/Berlin
BEGIN:DAYLIGHT
DTSTART:20260329T030000
TZOFFSETFROM:+0100
TZOFFSETTO:+0200
TZNAME:CEST
END:DAYLIGHT
END:VTIMEZONE
END:VCALENDAR