BEGIN:VCALENDAR
VERSION:2.0
PRODID:-//wp-events-plugin.com//7.2.3.1//EN
BEGIN:VEVENT
UID:8374@blog.nordfriesland-online.de
DTSTART;TZID=Europe/Berlin:20260502T200000
DTEND;TZID=Europe/Berlin:20260502T230000
DTSTAMP:20260421T175025Z
URL:https://blog.nordfriesland-online.de/events/ganser/
SUMMARY:Ganser
DESCRIPTION:\n\nDie Chicagoer Art-Rock-Band Ganser erhielt 2020 mit ihrem z
 weiten Album „Just Look\nat That Sky“ breite Anerkennung und landete a
 uf Bestenlisten von Vice\, Rolling Stone\nund Paste. Während der Pandemie
  entstand eine Remix-EP in Zusammenarbeit mit\nAndy Bell\, Sad13\, Adam Fa
 ulkner und Bartees Strange\, parallel hielt die Band online\nKontakt zu ih
 ren Fans. Nach gemeinsamen Auftritten mit Bikini Kill\, Viagra Boys\, Amyl
  &amp\;\nthe Sniffers und der Gilla Band arbeitet Ganser derzeit an ihrem 
 dritten Album. 2022\nerschien bereits die EP „Nothing You Do Matters“\
 , produziert mit Angus Andrew (Liars).\nMit dem neuen Album „Animal Hosp
 ital“ setzt die Band ihren Weg fort: ein konzentrierter\nBlick auf die W
 idersprüche des Alltags\, verdichtet zu kompakten\, energiegeladenen\nSon
 gs. Ganser erweitern ihr Klangspektrum\, bleiben aber ihren markanten\, tr
 eibenden\nRhythmen treu – präzises Schlagzeug\, pulsierende Basslinien\
 , Gitarren und Synths\, die\nzwischen Spannung und Ruhe vermitteln.\nEintr
 itt: VVK 17 € zzgl. Gebühren / AK 23 € // unbestuhlt\n\nFoto: Presse 
 Ganser
ATTACH;FMTTYPE=image/jpeg:https://blog.nordfriesland-online.de/wp-content/
 uploads/2026/04/Ganser-4-web_kl-e1776793784570.jpg
CATEGORIES:Live-Konzerte
LOCATION:Speicher Husum\, Hafenstr. 17\, Husum\, 25813\, Deutschland
GEO:54.4751218;9.047533199999975
X-APPLE-STRUCTURED-LOCATION;VALUE=URI;X-ADDRESS=Hafenstr. 17\, Husum\, 2581
 3\, Deutschland;X-APPLE-RADIUS=100;X-TITLE=Speicher Husum:geo:54.4751218,9
 .047533199999975
END:VEVENT
BEGIN:VTIMEZONE
TZID:Europe/Berlin
X-LIC-LOCATION:Europe/Berlin
BEGIN:DAYLIGHT
DTSTART:20260329T030000
TZOFFSETFROM:+0100
TZOFFSETTO:+0200
TZNAME:CEST
END:DAYLIGHT
END:VTIMEZONE
END:VCALENDAR