BEGIN:VCALENDAR
VERSION:2.0
PRODID:-//wp-events-plugin.com//7.2.3.1//EN
BEGIN:VEVENT
UID:8325@blog.nordfriesland-online.de
DTSTART;TZID=Europe/Berlin:20260308T120000
DTEND;TZID=Europe/Berlin:20260308T130000
DTSTAMP:20260302T134952Z
URL:https://blog.nordfriesland-online.de/events/friedrich-laubengeiger-und
 -die-schule-des-sehens/
SUMMARY:„Friedrich Laubengeiger und die Schule des Sehens“
DESCRIPTION:Kunstgenuss der besonderen wird am&nbsp\;Sonntag\, dem 8. März
  2026\, um 12 Uhr Nordfriesland Museum. Nissenhausgeboten. &nbsp\;\n\nDer 
 Museumsverbund lädt daher herzlich zur&nbsp\;öffentlichen Führung&nbsp\
 ;durch die aktuelle Sonderausstellung&nbsp\;\n\n„Friedrich Laubengeiger 
 und die Schule des Sehens“&nbsp\;ein.\n\nNicola Heuwinkel\, promovierte 
 Kunsthistorikerin und Mitautorin des Ausstellungskataloges\, führt die Be
 sucherinnen und Besucher durch die eindrucksvolle und überraschende Werks
 chau\, die ihm 97. Lebensjahr des einflussreichen Husumer Kunsterziehers u
 nd Malers mit schwäbischen Wurzeln gezeigt wird. Die Ausstellung spannt e
 inen Bogen von Laubengeigers Ausbildung an der Stuttgarter Kunstakademie i
 n den frühen 1950er Jahren im&nbsp\;Spannungsfeld zwischen abstrakter und
  figurativer Malerei über seine Berufung zur Lehre im Geiste der Reformp
 ädagogik und Oskar Kokoschkas "Schule des Sehens" hin zu seinen farbinten
 siven und dynamischen Darstellungen von Mensch und Natur in verschiedenste
 n Medien – ein spannender Überblick in mehr als acht Jahrzehnte künstl
 erisches Schaffen und einen Lebenslauf\, der eng verbunden ist mit der Ide
 en- und Kulturgeschichte des 20. Jahrhunderts in Deutschland.&nbsp\;\n\n&n
 bsp\;\n\nMelden Sie sich bitte verbindlich an unter:\n\nTel. 04841-2545 od
 er\n\nper E-Mail:&nbsp\;kasse@museumsverbund-nordfriesland.de.\n\nDauer: c
 a. 1 Stunde\n\nEintritt: 12 € pro Person (inkl. Eintritt)\n\nKurzentschl
 ossene sind natürlich auch ohne Anmeldung willkommen.
ATTACH;FMTTYPE=image/jpeg:https://blog.nordfriesland-online.de/wp-content/
 uploads/2014/01/nfdefault.png
CATEGORIES:Ausstellungen
LOCATION:Nissenhaus\, Herzog-Adolf-Straße 25\, Husum\, 25813\, Deutschland
GEO:54.47522;9.055769999999939
X-APPLE-STRUCTURED-LOCATION;VALUE=URI;X-ADDRESS=Herzog-Adolf-Straße 25\, H
 usum\, 25813\, Deutschland;X-APPLE-RADIUS=100;X-TITLE=Nissenhaus:geo:54.47
 522,9.055769999999939
END:VEVENT
BEGIN:VTIMEZONE
TZID:Europe/Berlin
X-LIC-LOCATION:Europe/Berlin
BEGIN:STANDARD
DTSTART:20251026T020000
TZOFFSETFROM:+0200
TZOFFSETTO:+0100
TZNAME:CET
END:STANDARD
END:VTIMEZONE
END:VCALENDAR