BEGIN:VCALENDAR
VERSION:2.0
PRODID:-//wp-events-plugin.com//7.2.3.1//EN
BEGIN:VEVENT
UID:8368@blog.nordfriesland-online.de
DTSTART;TZID=Europe/Berlin:20260425T120000
DTEND;TZID=Europe/Berlin:20260425T130000
DTSTAMP:20260421T073426Z
URL:https://blog.nordfriesland-online.de/events/friedrich-laubengeiger-und
 -die-schule-des-sehens-3/
SUMMARY:„Friedrich Laubengeiger und die Schule des Sehens“
DESCRIPTION:\nDer Museumsverbund Nordfriesland lädt am&nbsp\;Samstag\, dem
  25. April 2026\, um 12 Uhr herzlich zur Führung durch die aktuelle Sonde
 rausstellung&nbsp\;„Friedrich Laubengeiger und die Schule des Sehens“&
 nbsp\;in das&nbsp\;Nordfriesland Museum. Nissenhaus&nbsp\;ein.\nNicola Heu
 winkel\, promovierte Kunsthistorikerin und Mitautorin des Ausstellungskata
 loges\, führt die Besucherinnen und Besucher durch die eindrucksvolle und
  überraschende Werkschau\, die im 97. Lebensjahr des einflussreichen Husu
 mer Kunsterziehers und Malers mit schwäbischen Wurzeln gezeigt wird. Die 
 Ausstellung spannt einen Bogen von Laubengeigers Ausbildung an der Stuttga
 rter Kunstakademie in den frühen 1950er Jahren im Spannungsfeld zwischen 
 abstrakter und figurativer Malerei über seine Berufung zur Lehre im Geist
 e der Reformpädagogik und Oskar Kokoschkas "Schule des Sehens" hin zu sei
 nen farbintensiven und dynamischen Darstellungen von Mensch und Natur in v
 erschiedensten Medien – ein spannender Ausblick in mehr als acht Jahrzeh
 nte künstlerische Schaffens und einen Lebenslauf\, der eng verbunden ist 
 mit der Ideen- und Kulturgeschichte des 20. Jahrhunderts in Deutschland.&n
 bsp\;\n&nbsp\;\nLaufzeit:&nbsp\;8. Februar 2026 bis 10. Mai 2026\n&nbsp\;\
 nWann? &nbsp\; Samstag\, 25. April um 12.00 Uhr\nWo? &nbsp\;&nbsp\;&nbsp\;
 &nbsp\;&nbsp\;&nbsp\;&nbsp\;&nbsp\;&nbsp\;&nbsp\;&nbsp\;&nbsp\;&nbsp\;&nbs
 p\;&nbsp\;&nbsp\;&nbsp\;&nbsp\;&nbsp\;&nbsp\;&nbsp\; Nordfriesland Museum.
  Nissenhaus\n&nbsp\;\nMelden Sie sich bitte verbindlich an unter:\nTel. 04
 841-2545 oder\nper E-Mail:  kasse@museumsverbund-nordfriesland.de.\nDauer:
  ca. 1 Stunde\nEintritt: 12 € pro Person (inkl. Eintritt)\nKurzentschlos
 sene sind natürlich auch ohne Anmeldung willkommen.
ATTACH;FMTTYPE=image/jpeg:https://blog.nordfriesland-online.de/wp-content/
 uploads/2026/04/F_Laubengeiger_Schwesinger_Kirche_um_2000cThomas_Lorenzen-
 e1776756834680.jpg
CATEGORIES:Ausstellungen
LOCATION:Nissenhaus\, Herzog-Adolf-Straße 25\, Husum\, 25813\, Deutschland
GEO:54.47522;9.055769999999939
X-APPLE-STRUCTURED-LOCATION;VALUE=URI;X-ADDRESS=Herzog-Adolf-Straße 25\, H
 usum\, 25813\, Deutschland;X-APPLE-RADIUS=100;X-TITLE=Nissenhaus:geo:54.47
 522,9.055769999999939
END:VEVENT
BEGIN:VTIMEZONE
TZID:Europe/Berlin
X-LIC-LOCATION:Europe/Berlin
BEGIN:DAYLIGHT
DTSTART:20260329T030000
TZOFFSETFROM:+0100
TZOFFSETTO:+0200
TZNAME:CEST
END:DAYLIGHT
END:VTIMEZONE
END:VCALENDAR