BEGIN:VCALENDAR
VERSION:2.0
PRODID:-//wp-events-plugin.com//7.2.3.1//EN
BEGIN:VEVENT
UID:8377@blog.nordfriesland-online.de
DTSTART;TZID=Europe/Berlin:20260516T203000
DTEND;TZID=Europe/Berlin:20260516T230000
DTSTAMP:20260421T175852Z
URL:https://blog.nordfriesland-online.de/events/freddy-fischer-his-cosmic-
 rocktime-band/
SUMMARY:Freddy Fischer & His Cosmic Rocktime Band
DESCRIPTION:\n\n„Alles ist alles“ heißt die 5. Platte von Freddy Fisch
 er &amp\; His Cosmic Rocktime Band und\nbeschreibt damit auf Schönste die
  verbindende\, aber niemals gleichmacherische Idee\nvon Disko\, einer Musi
 krichtung\, der das Kunststück gelingt\, alle auf einen stampfenden\nBeat
  einzuschwören und sie trotzdem darauf schweben zu lassen.\nAuf „Alles 
 ist alles“ gelingt es der inzwischen als Trio agierenden Band\, ihrem\nd
 ruckvolltanzbaren Live-Sound ganz nah zu kommen und dennoch manchmal fast\
 nkammermusikalisch zu klingen. Es ist auch ihre erzählerischste Platte ge
 worden. So\nbleibt die Diskothek zwar weiterhin ein Sehnsuchtsort\, wird a
 ber diesmal konkret\n„zwischen Kaufhaus und McDonalds Treppe runter“ v
 erortet. Ihr Sinn ist aber weiterhin\,\ndie Grenzen des Alltags aufzureiß
 en und im Augenblick des Tanzes ein Teil von allem\nzu werden. Da ist dann
  auch die Liebe nicht weit\, natürlich weiterhin die Kraft\, die hier\nal
 les zusammenhält und der nicht nur „Mein schönstes Lied“ gesungen wi
 rd.\nDisko-Chanson könnte man sagen\, der die groovige Introvertiertheit 
 von Bill Withers mit\nden kunstvolleren Momenten von Udo Jürgens verbinde
 t. Und im fast schon\nexperimentellen „Traum 1“ klingt sogar eine Lamb
 chop-artige Phrasierung an. Freddy\nFischer mit Fender-Rhodes Orgel und di
 versen Synths\, Ron Rocktime am Bass und\nRitchie Rocktime am Schlagzeug r
 ücken diesmal ganz eng zusammen und erzählen von\nder Dunkelheit des Sch
 merzes und der Möglichkeit\, diesen aufzulösen. Manchmal ernst\nund univ
 ersell\, manchmal launig-albern-konkret wie in „Bumtchicke“ und manchm
 al rau\nund sphärisch zugleich\, wie im letzten Stück der Platte\, „Si
 lberne Wege“\, wo sich die\nBand mit Hilfe von freischwingenden Synthfl
 ächen auf einem trippenden Groove selbst\nins All katapultiert.\nEintritt
 : VVK 20 € zzgl. Gebühren / AK 25 € // unbestuhlt
ATTACH;FMTTYPE=image/jpeg:https://blog.nordfriesland-online.de/wp-content/
 uploads/2026/04/Freddy-Fischer-1-e1776794291756.jpg
CATEGORIES:Live-Konzerte
LOCATION:Speicher Husum\, Hafenstr. 17\, Husum\, 25813\, Deutschland
GEO:54.4751218;9.047533199999975
X-APPLE-STRUCTURED-LOCATION;VALUE=URI;X-ADDRESS=Hafenstr. 17\, Husum\, 2581
 3\, Deutschland;X-APPLE-RADIUS=100;X-TITLE=Speicher Husum:geo:54.4751218,9
 .047533199999975
END:VEVENT
BEGIN:VTIMEZONE
TZID:Europe/Berlin
X-LIC-LOCATION:Europe/Berlin
BEGIN:DAYLIGHT
DTSTART:20260329T030000
TZOFFSETFROM:+0100
TZOFFSETTO:+0200
TZNAME:CEST
END:DAYLIGHT
END:VTIMEZONE
END:VCALENDAR