BEGIN:VCALENDAR
VERSION:2.0
PRODID:-//wp-events-plugin.com//7.2.3.1//EN
BEGIN:VEVENT
UID:8375@blog.nordfriesland-online.de
DTSTART;TZID=Europe/Berlin:20260508T200000
DTEND;TZID=Europe/Berlin:20260508T230000
DTSTAMP:20260421T175344Z
URL:https://blog.nordfriesland-online.de/events/folkbaltica-konzert-andrea
 s-hofmeir-ordseglarna/
SUMMARY:folkBALTICA-Konzert: Andreas Hofmeir + Ordseglarna
DESCRIPTION:\n\nAndreas Hofmeir\nAndreas Hofmeir: Tuba / Vladislav Cojocaru
 : Akkordeon\nAndreas Hofmeir – einer der besten und vielseitigsten Tubis
 ten der Gegenwart – ist ein\nGrenzgänger zwischen den Genres: Er ist Pr
 ofessor an der Universität Mozarteum\nSalzburg\, war Gründungsmitglied d
 er bayerischen Kult-Band LaBrassBanda\, ist als\nDirigent tätig und erhie
 lt sowohl als Kabarettist wie auch als Musiker zahlreiche\nAuszeichnungen 
 für sein facettenreiches künstlerisches Werk. Er hat mit den Wiener\nPhi
 lharmonikern\, dem Gewandhausorchester und der NDR Radiophilharmonie gespi
 elt\nsowie gleichzeitig in Formationen mit Schwerpunkt auf Jazz\, Kammermu
 sik und\ntraditioneller Musik. Er begeistert das Publikum mit virtuosen\, 
 zarten\, humorvollen und\nsubtilen Klängen seines Instruments. Unerwartet
  – denn die Tuba ist ja sonst eher nicht\ngerade bekannt für ihre klang
 lichen Feinheiten. Auch bei Andreas Hofmeir sprang nicht\ngleich der Funke
 n für das große Blechinstrument über\, dem NDR verriet er: „Manchmal\
 nist es einfach die Liebe auf den sechzehnten Blick.“\n\nVladislav Cojoc
 aru kam nach dem Musikstudium in seinem Heimatland Moldawien nach\nMünche
 n. Dort schloss er das Studium am Richard-Strauss Konservatorium ab. Aktue
 ll\nist der Akkordeonist als Pädagoge und Solist tätig. Er spielt in mus
 ikalisch sehr\nunterschiedlichen Ensembles Jazz\, moderne osteuropäische 
 und auch bayerische\nMusik.\nDie beiden Musiker verbindet die Neugier\, mi
 t ihrer Musik Neuland zu betreten. Das tun\nsie aktuell mit ihrem Projekt 
 „European vibes“\, mit denen sie Musik aus den vielen\nSeelen unseres 
 Kontinents verbinden und zum Klingen bringen möchten.\n\nOrdseglarna\nHel
 ene Blum (DK): Gesang\, Geige / Julie Alapnes (N): Geige\, Gesang / Josefi
 na\nPaulson (S): Nyckelharpa / Milla Viljamaa (FIN): Harmonium\, Klavier\n
 Ein weiteres wichtiges Projekt für neue künstlerische Kooperationen im R
 ahmen von\nfolkBALTICA ist der folkBALTICA-Salon\, der 2021 erstmals statt
 fand. Vier\nKünstler:innen\, die sich zuvor nicht kannten\, treffen auf E
 inladung des Festivals\nzusammen\, um gemeinsam ein Konzertprogramm zu ent
 wickeln\, das anschließend im\nAugustiana-Palais von Schloss Augustenborg
  uraufgeführt wird.\nDie vier Künstler:innen\, die 2021 mutig der Einlad
 ung von folkBALTICA folgten\, waren\ndie finnische Pianistin Milla Viljama
 a\, die norwegische Geigerin Julie Alapnes\, die\nschwedische Nyckelharpa-
 Spielerin Josefina Paulson und die dänische Sängerin Helene\nBlum. Diese
  vier gründeten anschließend eine feste Gruppe unter dem Namen\n„Ordse
 glarna“ (dt. „Die Wortsegler:innen“). Gemeinsam sind sie nun auf Tou
 r und haben\nihr erstes Album veröffentlicht.\nIn ihrer Musik verweben si
 e Poesie aus unterschiedlichen Zeiten mit traditionellen\nKlängen der Vol
 ksmusik. Ihr künstlerisches Zusammentreffen vereint archaische\nWurzeln m
 it zeitgenössischem Wissen. Wie das schwedische Musikmagazin Lira über\n
 ihre Musik schreibt: „Es ist ein Genuss\, sich einfach zurückzulehnen\,
  in den Klang der\nWorte hineinzuhören und sich tragen zu lassen – von 
 der warmen Tiefe des\nHarmoniums und von der Klarheit der hellen Stimmen\,
  der Geigen und der Nyckelharpa.“\nEintritt: VVK 27 € zzgl. Gebühren 
 / AK 30 € // bestuhlt\n\n&nbsp\;\n\nFoto: Presse Andreas Hofmeir
ATTACH;FMTTYPE=image/jpeg:https://blog.nordfriesland-online.de/wp-content/
 uploads/2026/04/A-Hofmeir_MG_0005_done-2-e1776793974127.jpg
CATEGORIES:Live-Konzerte
LOCATION:Speicher Husum\, Hafenstr. 17\, Husum\, 25813\, Deutschland
GEO:54.4751218;9.047533199999975
X-APPLE-STRUCTURED-LOCATION;VALUE=URI;X-ADDRESS=Hafenstr. 17\, Husum\, 2581
 3\, Deutschland;X-APPLE-RADIUS=100;X-TITLE=Speicher Husum:geo:54.4751218,9
 .047533199999975
END:VEVENT
BEGIN:VTIMEZONE
TZID:Europe/Berlin
X-LIC-LOCATION:Europe/Berlin
BEGIN:DAYLIGHT
DTSTART:20260329T030000
TZOFFSETFROM:+0100
TZOFFSETTO:+0200
TZNAME:CEST
END:DAYLIGHT
END:VTIMEZONE
END:VCALENDAR