BEGIN:VCALENDAR
VERSION:2.0
PRODID:-//wp-events-plugin.com//7.2.3.1//EN
BEGIN:VEVENT
UID:8373@blog.nordfriesland-online.de
DTSTART;TZID=Europe/Berlin:20260501T110000
DTEND;TZID=Europe/Berlin:20260501T180000
DTSTAMP:20260421T174755Z
URL:https://blog.nordfriesland-online.de/events/demokratiefest/
SUMMARY:Demokratiefest
DESCRIPTION:\n\nDemokratie ist mehr als nur Wahlen. Sie lebt von Begegnung\
 , Austausch und der aktiven\nBeteiligung aller. Der DGB Kreisverband Nordf
 riesland will mit dem Demokratiefest am 1.\nMai zeigen: Demokratie ist bun
 t\, offen und lebendig. Demokratie ist keine\nSelbstverständlichkeit! Wir
  bleiben als DGB laut für unsere Demokratie. Dabei\nunterstützen uns fan
 tastische KünstlerInnen: Uli Sailor\, acid.milch&amp\;honey\,\nHinterland
 gang und Christin Nichols. 1. Mai-Kundgebung mit Familienangebot ab 11 Uhr
 \nvorm Speicher.\nEintritt frei. Wir freuen uns über eine Spende.\n\nFoto
 : Bella Lieberberg
ATTACH;FMTTYPE=image/jpeg:https://blog.nordfriesland-online.de/wp-content/
 uploads/2026/04/DGB_06_Christin-Nichols_Credits_Bella-Lieberberg_kl-scaled
 -e1776793635662.jpg
CATEGORIES:Sonstiges
LOCATION:Speicher Husum\, Hafenstr. 17\, Husum\, 25813\, Deutschland
GEO:54.4751218;9.047533199999975
X-APPLE-STRUCTURED-LOCATION;VALUE=URI;X-ADDRESS=Hafenstr. 17\, Husum\, 2581
 3\, Deutschland;X-APPLE-RADIUS=100;X-TITLE=Speicher Husum:geo:54.4751218,9
 .047533199999975
END:VEVENT
BEGIN:VTIMEZONE
TZID:Europe/Berlin
X-LIC-LOCATION:Europe/Berlin
BEGIN:DAYLIGHT
DTSTART:20260329T030000
TZOFFSETFROM:+0100
TZOFFSETTO:+0200
TZNAME:CEST
END:DAYLIGHT
END:VTIMEZONE
END:VCALENDAR