BEGIN:VCALENDAR
VERSION:2.0
PRODID:-//wp-events-plugin.com//7.2.3.1//EN
BEGIN:VEVENT
UID:8379@blog.nordfriesland-online.de
DTSTART;TZID=Europe/Berlin:20260523T203000
DTEND;TZID=Europe/Berlin:20260523T234500
DTSTAMP:20260422T170545Z
URL:https://blog.nordfriesland-online.de/events/arrested-denial-fornhorst-
 und-violent-instinct/
SUMMARY:Arrested Denial\, Fornhorst und Violent Instinct
DESCRIPTION:\n\nViolent Instinct aus Hamburg verbinden den Spirit des 80er-
 Punks mit modernem\nStreet- und Oi!-Punk – laut\, melodisch und kompromi
 sslos. Angeführt von Frontfrau Aga\,\nderen kraftvolle Stimme zwischen R
 öhren und Melodie pendelt\, steht die Band für klare\nHaltung\, druckvol
 le Songs und eine mitreißende Live-Performance.\n\nArrested Denial: Die H
 amburger Punkrocker stehen für Streetpunk mit eingängigen\nMelodien\, ge
 legentlichen Offbeats und hier und da auftauchenden Trompeten. Mit Songs\n
 wie „Nationalisten aller Länder“ von ihrem letzten Album „Frei.Tal
 “ hat die Band nicht nur\nihren Platz in zahlreichen Playlisten dieser W
 elt gefunden\, sondern sich politisch auch\nklar antifaschistisch verortet
 . Am 5.12.2025 erscheint das dritte Album „Nirgendwo\nangekommen“ auf 
 Bakraufarfita Records. Als Gastsänger mit am Start sind Steff von\nAlarms
 ignal und Tex Brasket von Slime und Teluxe. Gegründet hat sich die Band E
 nde\n2009 in Hamburg. Nach der 2010 in Eigenregie und zum freien Download\
 nveröffentlichten EP „Church on Friday“ brachten Mad Butcher Records 
 Anfang 2013 das\nzweite Album „Our best record so far“ heraus. Noch im
  Dezember des gleichen Jahres\nfolgte eine Split 7“ mit der serbischen P
 unkrock Band The Bayonets. Im Juli 2017\nschließlich erschien der noch ak
 tuelle Longplayer „Frei.Tal“. Die Kritiken zur Platte in\nFanzines wie
  Ox\, Plastic Bomb sowie auf vielen Online‐Portalen fielen\, wie bereits
  bei\nden Vorgängern\, durchweg positiv aus.\n\nIn den zweieinhalb Jahren
  nach der Veröffentlichung von „Frei.Tal“ folgten über 100\nKonzerte
 . So waren Arrested Denial im Juni 2017 auf zweiwöchiger Tour in China un
 d\nspielten unter anderem in Peking\, Shanghai und Hongkong. Dies war bere
 its der zweite\ngroße Auslandstrip der Hamburger\, nachdem sie 2013 -eben
 falls für 2 Wochen und\neinige Tausend Kilometer ‐ kreuz und quer auf d
 em Balkan unterwegs gewesen waren.\n2018 folgte eine 16-tägige Europatour
  mit den Street Dogs\, 2019 eine weitere\nzweiwöchige Europatour mit den 
 Angelic Upstarts.\nNeben den Touren haben Arrested Denial in den letzten J
 ahren etliche weitere Shows\ngespielt. So unter anderem 2015 auf persönli
 che Einladung der Broilers auf deren Noir-\nTour sowie mit Bands wie den A
 dolescents\, Los Fastidios\, Menace\, Sick Of It All\,\nRantanplan\, den K
 assierern\, Dritte Wahl\, The Oppressed oder Agnostic Front. Zudem\nstande
 n zahlreiche Festivalauftritte auf dem Programm\, u.a. auf dem Rebellion F
 estival\nin Amsterdam\, dem Back To Future in Glaubitz\, dem tschechischen
  Fest Pod Parou und\ndem Störfaktor Festival in Zwickau.\n\nFornhorst spi
 elen melodischen Punkrock mit teils bissigen\, teils sehr persönlichen\nd
 eutschen Texten: „Punkrock für Herz\, Hirn und Hüfte“\, wie die Band
  es selber nennt.\nIhren Namen verdankt die Band einem alten Bauernhaus in
  Schleswig-Holstein. Hier\nwohnt Sänger und Gitarrist Normen aka Chappi (
 Eu!-Krampf\, Aside\, Schneller.).\nEigentlich wollte er ein kleines Solopr
 ojekt mit Akustikgitarre auf die Beine stellen. Im\nLieblingspub ein bissc
 hen Gitarre spielen\, dazu persönliche Texte singen und im\nGegenzug ein 
 oder zwei Freibier bekommen\, so war der Plan. Alleine Musik machen\nwurde
  jedoch auf Dauer langweilig und so hat sich Normen Mitstreiter*innen gesu
 cht und\nmit Toni (Gitarre)\, B.A. (Bass) und Timon (Schlagzeug) gefunden.
  2020 ist die erste EP\nnoch unter dem Namen „Schneller“ erschienen. I
 m April 2022 folgte „Soundtrack meines\nLebens“ und im Mai 2024 schlie
 ßlich das erste Album „Leben ohne Scheiss“\, das sehr\ngute Reaktione
 n erhalten hat. Für 2026 befindet sich der zweite Longplayer der Band in\
 nPlanung.\nBis dahin weiß die Band vor allem live zu überzeugen. Jeder A
 uftritt gleicht einem Abriss\nunter Freund*innen. So durfte das Quartett b
 ereits mit Bands wie Wonk Unit\, The\nMovement\, The Vageenas aber auch mi
 t Dr. Ring Ding oder The Originaltors auftreten.\nPräsentiert von der Spe
 icher-Gruppe „Rettungsboot“\nEintritt: VVK 15 € zzgl. Gebühren / AK
  19 € // unbestuhlt\n\n&nbsp\;\n\nFoto: Presse Arrested Denial
ATTACH;FMTTYPE=image/jpeg:https://blog.nordfriesland-online.de/wp-content/
 uploads/2026/04/Arrested-Denial-Band-03-e1776877509919.jpg
CATEGORIES:Live-Konzerte
LOCATION:Speicher Husum\, Hafenstr. 17\, Husum\, 25813\, Deutschland
GEO:54.4751218;9.047533199999975
X-APPLE-STRUCTURED-LOCATION;VALUE=URI;X-ADDRESS=Hafenstr. 17\, Husum\, 2581
 3\, Deutschland;X-APPLE-RADIUS=100;X-TITLE=Speicher Husum:geo:54.4751218,9
 .047533199999975
END:VEVENT
BEGIN:VTIMEZONE
TZID:Europe/Berlin
X-LIC-LOCATION:Europe/Berlin
BEGIN:DAYLIGHT
DTSTART:20260329T030000
TZOFFSETFROM:+0100
TZOFFSETTO:+0200
TZNAME:CEST
END:DAYLIGHT
END:VTIMEZONE
END:VCALENDAR