BEGIN:VCALENDAR
VERSION:2.0
PRODID:-//wp-events-plugin.com//7.2.3.1//EN
BEGIN:VEVENT
UID:8376@blog.nordfriesland-online.de
DTSTART;TZID=Europe/Berlin:20260515T200000
DTEND;TZID=Europe/Berlin:20260515T230000
DTSTAMP:20260421T175623Z
URL:https://blog.nordfriesland-online.de/events/40-jahre-rocko-schamoni-th
 e-king-is-here-to-stay/
SUMMARY:40 Jahre Rocko Schamoni – The King is here to stay
DESCRIPTION:\n\n1985 gab Rocko Schamoni die ersten Konzerte im Vorprogramm 
 der Goldenen Zitronen\,\ndamals noch unter seinem Frühpseudonym „Roddy 
 Dangerblood“. 1986 begleitete er die\nToten Hosen auf Tournee\, ab jetzt
  als „King Rocko Schamoni“. Seitdem hat er weit über\n1000 Auftritte 
 hinter sich gebracht\, mit seiner eigenen Band „Little Machine“\, mit 
 „Studio\nBraun“ und „Fraktus“ über 20 Longplayer veröffentlicht\
 , 10 Bücher geschrieben\, 10\nTheaterstücke produziert\, den Golden Pude
 l Club gegründet und diverse weitere\nProjekte begleitet. Eine Quersumme 
 seines musikalischen und literarischen Schaffens\nwird der „King“ – 
 wie ihn nahe Freunde nennen dürfen – auf dieser Jubiläumstour zum\nBes
 ten geben. Begleitet wird er von Joachim Franz Büchner.\nWer das verpasst
 \, war nicht dabei.\n\nRocko Schamoni ist Autor\, Entertainer\, Musiker\, 
 Schauspieler und Bühnenkünstler. Er\nlebt in Hamburg. Mit seinen Romanbe
 stsellern wie Dorfpunks und Große Freiheit füllt er\nHallen. Lange Jahre
  betrieb er zusammen mit Schorsch Kamerun den legendären\nGolden Pudel Cl
 ub auf St. Pauli.\nBandleader und Songwriter Joachim Franz Büchner ist in
  Hamburg offizieller\nBürgermeister der Nacht (bekannt unter anderem für
  seine 24h-Konzerte) und Mitglied\nvon Ostzonensuppenwürfelmachenkrebs. S
 eine Texte und Songs verbinden Alltägliches\nmit Mystik und Glam. Jüngst
  erschien das zweite Album der Joachim Franz Büchner\nBand „Hits in the
  Dark“ auf dem Hanseplatte-Label.\nEintritt: VVK 25 € zzgl. Gebühren 
 / AK 30 € // bestuhlt\n\nFoto: David Königsmann
ATTACH;FMTTYPE=image/jpeg:https://blog.nordfriesland-online.de/wp-content/
 uploads/2026/04/Rocko-Schamoni_1cDavid_Koenigsmann-e1776794144756.jpg
CATEGORIES:Live-Konzerte
LOCATION:Speicher Husum\, Hafenstr. 17\, Husum\, 25813\, Deutschland
GEO:54.4751218;9.047533199999975
X-APPLE-STRUCTURED-LOCATION;VALUE=URI;X-ADDRESS=Hafenstr. 17\, Husum\, 2581
 3\, Deutschland;X-APPLE-RADIUS=100;X-TITLE=Speicher Husum:geo:54.4751218,9
 .047533199999975
END:VEVENT
BEGIN:VTIMEZONE
TZID:Europe/Berlin
X-LIC-LOCATION:Europe/Berlin
BEGIN:DAYLIGHT
DTSTART:20260329T030000
TZOFFSETFROM:+0100
TZOFFSETTO:+0200
TZNAME:CEST
END:DAYLIGHT
END:VTIMEZONE
END:VCALENDAR